BEGIN:VCALENDAR
VERSION:2.0
PRODID:-//Boule Club Mülheim an der Ruhr e.V. - ECPv6.15.20//NONSGML v1.0//EN
CALSCALE:GREGORIAN
METHOD:PUBLISH
X-WR-CALNAME:Boule Club Mülheim an der Ruhr e.V.
X-ORIGINAL-URL:https://www.bouleclub-muelheim.de
X-WR-CALDESC:Veranstaltungen für Boule Club Mülheim an der Ruhr e.V.
REFRESH-INTERVAL;VALUE=DURATION:PT1H
X-Robots-Tag:noindex
X-PUBLISHED-TTL:PT1H
BEGIN:VTIMEZONE
TZID:Europe/Berlin
BEGIN:DAYLIGHT
TZOFFSETFROM:+0100
TZOFFSETTO:+0200
TZNAME:CEST
DTSTART:20250330T010000
END:DAYLIGHT
BEGIN:STANDARD
TZOFFSETFROM:+0200
TZOFFSETTO:+0100
TZNAME:CET
DTSTART:20251026T010000
END:STANDARD
BEGIN:DAYLIGHT
TZOFFSETFROM:+0100
TZOFFSETTO:+0200
TZNAME:CEST
DTSTART:20260329T010000
END:DAYLIGHT
BEGIN:STANDARD
TZOFFSETFROM:+0200
TZOFFSETTO:+0100
TZNAME:CET
DTSTART:20261025T010000
END:STANDARD
BEGIN:DAYLIGHT
TZOFFSETFROM:+0100
TZOFFSETTO:+0200
TZNAME:CEST
DTSTART:20270328T010000
END:DAYLIGHT
BEGIN:STANDARD
TZOFFSETFROM:+0200
TZOFFSETTO:+0100
TZNAME:CET
DTSTART:20271031T010000
END:STANDARD
END:VTIMEZONE
BEGIN:VEVENT
DTSTART;TZID=Europe/Berlin:20260425T090000
DTEND;TZID=Europe/Berlin:20260425T163000
DTSTAMP:20260425T123141
CREATED:20260116T082408Z
LAST-MODIFIED:20260116T082506Z
UID:6154-1777107600-1777134600@www.bouleclub-muelheim.de
SUMMARY:Team Cup in MH-Saarn   - für Alle (nicht nur Ligaspieler)
DESCRIPTION:
URL:https://www.bouleclub-muelheim.de/event/team-cup-in-mh-saarn-fuer-alle-nicht-nur-ligaspieler/
END:VEVENT
BEGIN:VEVENT
DTSTART;TZID=Europe/Berlin:20260426T110000
DTEND;TZID=Europe/Berlin:20260426T140000
DTSTAMP:20260425T123141
CREATED:20260326T092209Z
LAST-MODIFIED:20260326T092340Z
UID:6241-1777201200-1777212000@www.bouleclub-muelheim.de
SUMMARY:Voraussichtliche Eröffnung Radmotorikparks
DESCRIPTION:Wie spielen an dem Tag wie immer (Sonntag 11 -14 Uhr) und präsentieren uns  – auch wie immer – von unserer besten Seite (ggf. Stehtisch mit Fleyer für Gäste\, wenn Urzeiten bekannt sind).
URL:https://www.bouleclub-muelheim.de/event/voraussichtliche-eroeffnung-radmotorikparks/
END:VEVENT
BEGIN:VEVENT
DTSTART;TZID=Europe/Berlin:20260503T110000
DTEND;TZID=Europe/Berlin:20260503T143000
DTSTAMP:20260425T123141
CREATED:20251201T224958Z
LAST-MODIFIED:20260116T082911Z
UID:5991-1777806000-1777818600@www.bouleclub-muelheim.de
SUMMARY:Interne Turnier  -   3. Spieltag
DESCRIPTION:
URL:https://www.bouleclub-muelheim.de/event/interne-turnier-3-spieltag/
END:VEVENT
BEGIN:VEVENT
DTSTART;TZID=Europe/Berlin:20260510T090000
DTEND;TZID=Europe/Berlin:20260510T163000
DTSTAMP:20260425T123141
CREATED:20251201T223810Z
LAST-MODIFIED:20260116T083018Z
UID:5983-1778403600-1778430600@www.bouleclub-muelheim.de
SUMMARY:2. Ligaspieltag in Homberg
DESCRIPTION:
URL:https://www.bouleclub-muelheim.de/event/2-ligaspieltag/
END:VEVENT
BEGIN:VEVENT
DTSTART;TZID=Europe/Berlin:20260607T110000
DTEND;TZID=Europe/Berlin:20260607T143000
DTSTAMP:20260425T123141
CREATED:20251201T225038Z
LAST-MODIFIED:20260116T082816Z
UID:5993-1780830000-1780842600@www.bouleclub-muelheim.de
SUMMARY:Interne Turnier  -  4. Spieltag
DESCRIPTION:
URL:https://www.bouleclub-muelheim.de/event/interne-turnier-4-spieltag/
END:VEVENT
BEGIN:VEVENT
DTSTART;TZID=Europe/Berlin:20260621T110000
DTEND;TZID=Europe/Berlin:20260621T140000
DTSTAMP:20260425T123141
CREATED:20260116T081501Z
LAST-MODIFIED:20260116T081601Z
UID:6149-1782039600-1782050400@www.bouleclub-muelheim.de
SUMMARY:Trieur Wettbewerb
DESCRIPTION:
URL:https://www.bouleclub-muelheim.de/event/trieur-wettbewerb-2/
END:VEVENT
BEGIN:VEVENT
DTSTART;TZID=Europe/Berlin:20260705T110000
DTEND;TZID=Europe/Berlin:20260705T143000
DTSTAMP:20260425T123141
CREATED:20251201T225144Z
LAST-MODIFIED:20260116T083130Z
UID:5995-1783249200-1783261800@www.bouleclub-muelheim.de
SUMMARY:Interne Turnier  -   5. Spieltag
DESCRIPTION:
URL:https://www.bouleclub-muelheim.de/event/interne-turnier-5-spieltag/
END:VEVENT
BEGIN:VEVENT
DTSTART;TZID=Europe/Berlin:20260719T110000
DTEND;TZID=Europe/Berlin:20260719T140000
DTSTAMP:20260425T123141
CREATED:20260116T081709Z
LAST-MODIFIED:20260116T081709Z
UID:6151-1784458800-1784469600@www.bouleclub-muelheim.de
SUMMARY:Tete a Tete Turnier
DESCRIPTION:
URL:https://www.bouleclub-muelheim.de/event/tete-a-tete-turnier/
END:VEVENT
BEGIN:VEVENT
DTSTART;TZID=Europe/Berlin:20260802T110000
DTEND;TZID=Europe/Berlin:20260802T143000
DTSTAMP:20260425T123141
CREATED:20251201T225238Z
LAST-MODIFIED:20260116T083250Z
UID:5997-1785668400-1785681000@www.bouleclub-muelheim.de
SUMMARY:Interne Turnier  -  6. Spieltag
DESCRIPTION:
URL:https://www.bouleclub-muelheim.de/event/interne-turnier-6-spieltag/
END:VEVENT
BEGIN:VEVENT
DTSTART;TZID=Europe/Berlin:20260830T090000
DTEND;TZID=Europe/Berlin:20260830T163000
DTSTAMP:20260425T123141
CREATED:20251201T223856Z
LAST-MODIFIED:20260116T083222Z
UID:5985-1788080400-1788107400@www.bouleclub-muelheim.de
SUMMARY:3. Ligaspieltag in Kettwig
DESCRIPTION:
URL:https://www.bouleclub-muelheim.de/event/3-ligaspieltag/
END:VEVENT
BEGIN:VEVENT
DTSTART;TZID=Europe/Berlin:20260906T110000
DTEND;TZID=Europe/Berlin:20260906T143000
DTSTAMP:20260425T123141
CREATED:20251201T225323Z
LAST-MODIFIED:20260116T082158Z
UID:5999-1788692400-1788705000@www.bouleclub-muelheim.de
SUMMARY:Interne Turnier  -   7. Spieltag
DESCRIPTION:
URL:https://www.bouleclub-muelheim.de/event/interne-turnier-7-spieltag/
END:VEVENT
BEGIN:VEVENT
DTSTART;TZID=Europe/Berlin:20260912T090000
DTEND;TZID=Europe/Berlin:20260912T180000
DTSTAMP:20260425T123141
CREATED:20260113T205335Z
LAST-MODIFIED:20260116T082125Z
UID:6138-1789203600-1789236000@www.bouleclub-muelheim.de
SUMMARY:Mülheimer Stadtmeisterschafter beim BC Mülheim
DESCRIPTION:
URL:https://www.bouleclub-muelheim.de/event/muelheimer-stadtmeisterschafter-beim-bc-muelheim/
END:VEVENT
BEGIN:VEVENT
DTSTART;TZID=Europe/Berlin:20260927T090000
DTEND;TZID=Europe/Berlin:20260927T180000
DTSTAMP:20260425T123141
CREATED:20251201T224005Z
LAST-MODIFIED:20260116T082716Z
UID:5987-1790499600-1790532000@www.bouleclub-muelheim.de
SUMMARY:4. Ligaspieltag in Saarn
DESCRIPTION:
URL:https://www.bouleclub-muelheim.de/event/4-ligaspieltag/
END:VEVENT
BEGIN:VEVENT
DTSTART;TZID=Europe/Berlin:20261004T110000
DTEND;TZID=Europe/Berlin:20261004T143000
DTSTAMP:20260425T123141
CREATED:20251201T225404Z
LAST-MODIFIED:20260116T081806Z
UID:6001-1791111600-1791124200@www.bouleclub-muelheim.de
SUMMARY:Interne Turnier   -    8. Spieltag
DESCRIPTION:
URL:https://www.bouleclub-muelheim.de/event/interne-turnier-8-spieltag/
END:VEVENT
BEGIN:VEVENT
DTSTART;TZID=Europe/Berlin:20261108T110000
DTEND;TZID=Europe/Berlin:20261108T143000
DTSTAMP:20260425T123141
CREATED:20251201T225503Z
LAST-MODIFIED:20260116T083646Z
UID:6003-1794135600-1794148200@www.bouleclub-muelheim.de
SUMMARY:Interne Turnier  -   9. Spieltag
DESCRIPTION:
URL:https://www.bouleclub-muelheim.de/event/interne-turnier-9-spieltag/
END:VEVENT
BEGIN:VEVENT
DTSTART;TZID=Europe/Berlin:20261206T110000
DTEND;TZID=Europe/Berlin:20261206T140000
DTSTAMP:20260425T123141
CREATED:20260116T083523Z
LAST-MODIFIED:20260116T083523Z
UID:6158-1796554800-1796565600@www.bouleclub-muelheim.de
SUMMARY:Nikolausturnier (Weckmann-Turnier) mit Geselligkeit
DESCRIPTION:
URL:https://www.bouleclub-muelheim.de/event/nikolausturnier-weckmann-turnier-mit-geselligkeit/
END:VEVENT
BEGIN:VEVENT
DTSTART;TZID=Europe/Berlin:20261210T180000
DTEND;TZID=Europe/Berlin:20261210T230000
DTSTAMP:20260425T123141
CREATED:20260116T083620Z
LAST-MODIFIED:20260116T083620Z
UID:6160-1796925600-1796943600@www.bouleclub-muelheim.de
SUMMARY:Weihnachtsfeier
DESCRIPTION:
URL:https://www.bouleclub-muelheim.de/event/weihnachtsfeier/
END:VEVENT
END:VCALENDAR